BEGIN:VCALENDAR
VERSION:2.0
PRODID:-//Stoffladen Leipzig - ECPv6.11.2//NONSGML v1.0//EN
CALSCALE:GREGORIAN
METHOD:PUBLISH
X-WR-CALNAME:Stoffladen Leipzig
X-ORIGINAL-URL:https://www.stoffladen-leipzig.de
X-WR-CALDESC:Veranstaltungen für Stoffladen Leipzig
REFRESH-INTERVAL;VALUE=DURATION:PT1H
X-Robots-Tag:noindex
X-PUBLISHED-TTL:PT1H
BEGIN:VTIMEZONE
TZID:Europe/Berlin
BEGIN:DAYLIGHT
TZOFFSETFROM:+0100
TZOFFSETTO:+0200
TZNAME:CEST
DTSTART:20250330T010000
END:DAYLIGHT
BEGIN:STANDARD
TZOFFSETFROM:+0200
TZOFFSETTO:+0100
TZNAME:CET
DTSTART:20251026T010000
END:STANDARD
END:VTIMEZONE
BEGIN:VEVENT
DTSTART;TZID=Europe/Berlin:20250704T103000
DTEND;TZID=Europe/Berlin:20250704T130000
DTSTAMP:20260423T102726
CREATED:20220208T111304Z
LAST-MODIFIED:20250425T101431Z
UID:4596-1751625000-1751634000@www.stoffladen-leipzig.de
SUMMARY:Ferien-Nähkurs für Kinder
DESCRIPTION:Unser Ferienkurs richtet sich an Nähanfänger und Fortgeschrittene ab ca. Klasse 3. Wichtiger als das Alter sind uns das Interesse am Nähen und die Größe – tatsächlich klappt es nur\, wenn die Kids mit den Füßen sitzend das Pedal erreichen können. \nEs stehen für die unterschiedlichen Näherfahrungen viele Schnittmuster und Projekte zur Verfügung\, aus denen die Kids wählen können. Für größere Projekte ist es auch möglich\, mehrere Einheiten zu buchen. Kursnähmaschinen\, Scheren etc. werden zur Verfügung gestellt. Wer unbedingt seine eigene Ausstattung mitbringen möchte\, darf dies natürlich gern tun. \nDie Kursgebühr wird bei Buchung fällig. Darin sind noch keine Materialkosten enthalten\, diese fallen je nach Projekt unterschiedlich aus. \nWir bitten um Zahlung innerhalb von max. 7 Tagen. Nur bei rechtzeitiger Zahlung besteht der Anspruch auf die Kursteilnahme. \nSollten Krankheit o.ä. eine Teilnahme am Kurs nicht möglich machen\, bitten wir um Absage per Mail oder Telefon. Sie erhalten in diesem Fall einen Gutschein in Höhe der Kursgebühr oder können einen Ersatztermin buchen. Bei Nichtteilnahme ohne Absage verfällt der Anspruch auf den Kurs. \nKurs buchen
URL:https://www.stoffladen-leipzig.de/termin/ferien-naehkurs-fuer-kinder-18/
LOCATION:Stoffladen Leipzig\, Arthur-Hoffmann-Straße 69\, Leipzig\, 04275\, Deutschland
CATEGORIES:Nähkurse
ATTACH;FMTTYPE=image/jpeg:https://www.stoffladen-leipzig.de/wp-content/uploads/2019/03/Nähkurs-Stoffladen-Leipzig.jpg
ORGANIZER;CN="Stoffladen Leipzig":MAILTO:post@stoffladen-leipzig.de
END:VEVENT
END:VCALENDAR